BEGIN:VCALENDAR
VERSION:2.0
PRODID:-//Apei Ouest 44 - ECPv6.15.10//NONSGML v1.0//EN
CALSCALE:GREGORIAN
METHOD:PUBLISH
X-ORIGINAL-URL:https://www.apeiouest44.fr
X-WR-CALDESC:Évènements pour Apei Ouest 44
REFRESH-INTERVAL;VALUE=DURATION:PT1H
X-Robots-Tag:noindex
X-PUBLISHED-TTL:PT1H
BEGIN:VTIMEZONE
TZID:Europe/Paris
BEGIN:DAYLIGHT
TZOFFSETFROM:+0100
TZOFFSETTO:+0200
TZNAME:CEST
DTSTART:20200329T010000
END:DAYLIGHT
BEGIN:STANDARD
TZOFFSETFROM:+0200
TZOFFSETTO:+0100
TZNAME:CET
DTSTART:20201025T010000
END:STANDARD
BEGIN:DAYLIGHT
TZOFFSETFROM:+0100
TZOFFSETTO:+0200
TZNAME:CEST
DTSTART:20210328T010000
END:DAYLIGHT
BEGIN:STANDARD
TZOFFSETFROM:+0200
TZOFFSETTO:+0100
TZNAME:CET
DTSTART:20211031T010000
END:STANDARD
BEGIN:DAYLIGHT
TZOFFSETFROM:+0100
TZOFFSETTO:+0200
TZNAME:CEST
DTSTART:20220327T010000
END:DAYLIGHT
BEGIN:STANDARD
TZOFFSETFROM:+0200
TZOFFSETTO:+0100
TZNAME:CET
DTSTART:20221030T010000
END:STANDARD
END:VTIMEZONE
BEGIN:VEVENT
DTSTART;TZID=Europe/Paris:20210601T100000
DTEND;TZID=Europe/Paris:20210601T160000
DTSTAMP:20260423T133708
CREATED:20200904T063742Z
LAST-MODIFIED:20210518T082603Z
UID:16645-1622541600-1622563200@www.apeiouest44.fr
SUMMARY:Journée HandiJoalland
DESCRIPTION:HandiJoalland\, manifestation organisée par la Direction des Sports et Nautisme de la Ville de Saint-Nazaire\, vous invite à nouveau cette année à des baptêmes nautiques de voile\, bateau collectif\, kayak\, aviron. \nLes activités sont encadrées par des éducateurs sportifs de la ville de St-Nazaire ainsi que par le SNOS Voile\, le SNOS Kayak et l’association Promotion Différence. \nDe 10h à 16h sur la base nautique municipale de St-Nazaire\, Etang du Bois Joalland. \nDécharge de responsabilité en téléchargement ici\, à remettre au stand accueil le jour de l’événement. Pas d’inscription préalable. Possibilité de pique-niquer sur place. \nJournée sous réserve des conditions météo ! Le port du masque sera obligatoire sauf pour les personnes disposant d’une attestation de contre-indication du port du masque.
URL:https://www.apeiouest44.fr/agenda/handijoalland-2019/
LOCATION:Base nautique municipale de St-Nazaire\, Etang du Bois Joalland\, Route de Quelmer\, Saint-Nazaire\, 44600\, France
CATEGORIES:Sortie
ATTACH;FMTTYPE=image/jpeg:https://www.apeiouest44.fr/wp-content/uploads/2019/08/nautisme.jpg
END:VEVENT
END:VCALENDAR