BEGIN:VCALENDAR
VERSION:2.0
PRODID:-//Apei Ouest 44 - ECPv6.15.10//NONSGML v1.0//EN
CALSCALE:GREGORIAN
METHOD:PUBLISH
X-WR-CALNAME:Apei Ouest 44
X-ORIGINAL-URL:https://www.apeiouest44.fr
X-WR-CALDESC:Évènements pour Apei Ouest 44
REFRESH-INTERVAL;VALUE=DURATION:PT1H
X-Robots-Tag:noindex
X-PUBLISHED-TTL:PT1H
BEGIN:VTIMEZONE
TZID:Europe/Paris
BEGIN:DAYLIGHT
TZOFFSETFROM:+0100
TZOFFSETTO:+0200
TZNAME:CEST
DTSTART:20190331T010000
END:DAYLIGHT
BEGIN:STANDARD
TZOFFSETFROM:+0200
TZOFFSETTO:+0100
TZNAME:CET
DTSTART:20191027T010000
END:STANDARD
BEGIN:DAYLIGHT
TZOFFSETFROM:+0100
TZOFFSETTO:+0200
TZNAME:CEST
DTSTART:20200329T010000
END:DAYLIGHT
BEGIN:STANDARD
TZOFFSETFROM:+0200
TZOFFSETTO:+0100
TZNAME:CET
DTSTART:20201025T010000
END:STANDARD
BEGIN:DAYLIGHT
TZOFFSETFROM:+0100
TZOFFSETTO:+0200
TZNAME:CEST
DTSTART:20210328T010000
END:DAYLIGHT
BEGIN:STANDARD
TZOFFSETFROM:+0200
TZOFFSETTO:+0100
TZNAME:CET
DTSTART:20211031T010000
END:STANDARD
END:VTIMEZONE
BEGIN:VEVENT
DTSTART;TZID=Europe/Paris:20200316T143000
DTEND;TZID=Europe/Paris:20200328T173000
DTSTAMP:20260424T103124
CREATED:20200305T125130Z
LAST-MODIFIED:20200305T125130Z
UID:17092-1584369000-1585416600@www.apeiouest44.fr
SUMMARY:Semaines d'Information sur la Santé Mentale (SISM)
DESCRIPTION:Les Semaines d’Information sur la Santé Mentale se dérouleront du 16 au 29 mars 2020. \nCréée en 1990\, la Semaine d’information sur la santé mentale est un événement annuel qui s’adresse au grand public pour : \n\n\n\n\n\n\n\n\n\n\n\n\n\nSensibiliser le public aux questions de santé mentale\n\n\n\n\n\n\n\n\n\n\n\n\nInformer à partir du thème annuel\, sur les différentes approches de la santé mentale\n\n\n\n\n\n\n\n\n\n\n\n\nRassembler acteurs et spectateurs des manifestations\, professionnels et usagers de la santé mentale\n\n\n\n\n\n\n\n\n\n\n\n\nAider au développement des réseaux de solidarité\, de réflexion et de soin en santé mentale\n\n\n\n\n\n\n\n\n\n\n\n\nFaire connaître les lieux\, les moyens et les personnes pouvant apporter un soutien ou une information de proximité\n\n\n\n\n\n\n\n\n\n\n\n\nExplorer un thème\, en 2020: « Santé mentale et discrimination »\n\n  \n\n\n\n\nDifférents événements ponctueront ces deux semaines (ciné-débats\, théâtre\, expositions\, portes ouvertes de structures\, conférences\, lectures publiques\, témoignages\, musique\, chants\, danse\, circuit-découverte) dans différentes villes (Ancenis/St-Géréon\, Blain\, Châteaubriant\, La Baule\, La Turballe\, Nantes\, Nort/Erdre\, Orvault\, Pontchâteau\, Rezé\, St-Nazaire\, Savenay\, Vertou). \n\n\n  \n\n\nRetrouvez le programme des Semaines d’Information sur la Santé Mentale en téléchargement ici.
URL:https://www.apeiouest44.fr/agenda/semaines-dinformation-sur-la-sante-mentale-sism/
CATEGORIES:Semaines d'information
END:VEVENT
END:VCALENDAR