BEGIN:VCALENDAR
VERSION:2.0
PRODID:-//Apei Ouest 44 - ECPv6.15.10//NONSGML v1.0//EN
CALSCALE:GREGORIAN
METHOD:PUBLISH
X-WR-CALNAME:Apei Ouest 44
X-ORIGINAL-URL:https://www.apeiouest44.fr
X-WR-CALDESC:Évènements pour Apei Ouest 44
REFRESH-INTERVAL;VALUE=DURATION:PT1H
X-Robots-Tag:noindex
X-PUBLISHED-TTL:PT1H
BEGIN:VTIMEZONE
TZID:Europe/Paris
BEGIN:DAYLIGHT
TZOFFSETFROM:+0100
TZOFFSETTO:+0200
TZNAME:CEST
DTSTART:20220327T010000
END:DAYLIGHT
BEGIN:STANDARD
TZOFFSETFROM:+0200
TZOFFSETTO:+0100
TZNAME:CET
DTSTART:20221030T010000
END:STANDARD
BEGIN:DAYLIGHT
TZOFFSETFROM:+0100
TZOFFSETTO:+0200
TZNAME:CEST
DTSTART:20230326T010000
END:DAYLIGHT
BEGIN:STANDARD
TZOFFSETFROM:+0200
TZOFFSETTO:+0100
TZNAME:CET
DTSTART:20231029T010000
END:STANDARD
BEGIN:DAYLIGHT
TZOFFSETFROM:+0100
TZOFFSETTO:+0200
TZNAME:CEST
DTSTART:20240331T010000
END:DAYLIGHT
BEGIN:STANDARD
TZOFFSETFROM:+0200
TZOFFSETTO:+0100
TZNAME:CET
DTSTART:20241027T010000
END:STANDARD
END:VTIMEZONE
BEGIN:VEVENT
DTSTART;TZID=Europe/Paris:20230626T093000
DTEND;TZID=Europe/Paris:20230626T160000
DTSTAMP:20260420T072419
CREATED:20230510T094857Z
LAST-MODIFIED:20230621T131044Z
UID:19365-1687771800-1687795200@www.apeiouest44.fr
SUMMARY:Portes Ouvertes esatco Pontchâteau
DESCRIPTION:Matinée réservée aux entreprises\, aux élus locaux et partenaires institutionnels : accueil à 9h30 jusqu’à 11H30 \nAprès-midi dédié au grand public et aux familles des travailleurs\, de 14h à 16H.
URL:https://www.apeiouest44.fr/agenda/portes-ouvertes-aprolis/
LOCATION:Aprolis\, 8 rue de l'Etoile du Matin\, Saint-Nazaire
CATEGORIES:Portes Ouvertes
ATTACH;FMTTYPE=image/jpeg:https://www.apeiouest44.fr/wp-content/uploads/2022/06/portes-ouvertes.jpg
END:VEVENT
END:VCALENDAR