BEGIN:VCALENDAR
VERSION:2.0
PRODID:-//Apei Ouest 44 - ECPv6.15.10//NONSGML v1.0//EN
CALSCALE:GREGORIAN
METHOD:PUBLISH
X-ORIGINAL-URL:https://www.apeiouest44.fr
X-WR-CALDESC:Évènements pour Apei Ouest 44
REFRESH-INTERVAL;VALUE=DURATION:PT1H
X-Robots-Tag:noindex
X-PUBLISHED-TTL:PT1H
BEGIN:VTIMEZONE
TZID:Europe/Paris
BEGIN:DAYLIGHT
TZOFFSETFROM:+0100
TZOFFSETTO:+0200
TZNAME:CEST
DTSTART:20240331T010000
END:DAYLIGHT
BEGIN:STANDARD
TZOFFSETFROM:+0200
TZOFFSETTO:+0100
TZNAME:CET
DTSTART:20241027T010000
END:STANDARD
BEGIN:DAYLIGHT
TZOFFSETFROM:+0100
TZOFFSETTO:+0200
TZNAME:CEST
DTSTART:20250330T010000
END:DAYLIGHT
BEGIN:STANDARD
TZOFFSETFROM:+0200
TZOFFSETTO:+0100
TZNAME:CET
DTSTART:20251026T010000
END:STANDARD
BEGIN:DAYLIGHT
TZOFFSETFROM:+0100
TZOFFSETTO:+0200
TZNAME:CEST
DTSTART:20260329T010000
END:DAYLIGHT
BEGIN:STANDARD
TZOFFSETFROM:+0200
TZOFFSETTO:+0100
TZNAME:CET
DTSTART:20261025T010000
END:STANDARD
END:VTIMEZONE
BEGIN:VEVENT
DTSTART;VALUE=DATE:20251010
DTEND;VALUE=DATE:20251012
DTSTAMP:20260420T151912
CREATED:20250627T080024Z
LAST-MODIFIED:20250627T091853Z
UID:16764-1760054400-1760227199@www.apeiouest44.fr
SUMMARY:Opération Brioches - édition 2025
DESCRIPTION:Retrouvez les bénévoles sur les stands de l’Opération Brioches 2025 dans les galeries marchande de : \n\nLeclerc Saint-Nazaire Immaculée\nLeclerc Pontchâteau\nLeclerc Guérande\nLeclerc Herbignac\nAuchan Trignac\nAuchan Océanis\nSuper U St-Gildas-des-Bois\nCarrefour Market La Baule
URL:https://www.apeiouest44.fr/agenda/operation-brioches-2025/
CATEGORIES:Opération Brioches
ATTACH;FMTTYPE=image/jpeg:https://www.apeiouest44.fr/wp-content/uploads/2019/09/OPB_Logo2024_SansDates_FondBlanc.jpg
END:VEVENT
END:VCALENDAR