BEGIN:VCALENDAR
VERSION:2.0
PRODID:-//Apei Ouest 44 - ECPv6.15.10//NONSGML v1.0//EN
CALSCALE:GREGORIAN
METHOD:PUBLISH
X-ORIGINAL-URL:https://www.apeiouest44.fr
X-WR-CALDESC:Évènements pour Apei Ouest 44
REFRESH-INTERVAL;VALUE=DURATION:PT1H
X-Robots-Tag:noindex
X-PUBLISHED-TTL:PT1H
BEGIN:VTIMEZONE
TZID:Europe/Paris
BEGIN:DAYLIGHT
TZOFFSETFROM:+0100
TZOFFSETTO:+0200
TZNAME:CEST
DTSTART:20250330T010000
END:DAYLIGHT
BEGIN:STANDARD
TZOFFSETFROM:+0200
TZOFFSETTO:+0100
TZNAME:CET
DTSTART:20251026T010000
END:STANDARD
BEGIN:DAYLIGHT
TZOFFSETFROM:+0100
TZOFFSETTO:+0200
TZNAME:CEST
DTSTART:20260329T010000
END:DAYLIGHT
BEGIN:STANDARD
TZOFFSETFROM:+0200
TZOFFSETTO:+0100
TZNAME:CET
DTSTART:20261025T010000
END:STANDARD
BEGIN:DAYLIGHT
TZOFFSETFROM:+0100
TZOFFSETTO:+0200
TZNAME:CEST
DTSTART:20270328T010000
END:DAYLIGHT
BEGIN:STANDARD
TZOFFSETFROM:+0200
TZOFFSETTO:+0100
TZNAME:CET
DTSTART:20271031T010000
END:STANDARD
END:VTIMEZONE
BEGIN:VEVENT
DTSTART;TZID=Europe/Paris:20260201T140000
DTEND;TZID=Europe/Paris:20260201T180000
DTSTAMP:20260426T011511
CREATED:20260105T080002Z
LAST-MODIFIED:20260105T080002Z
UID:22676-1769954400-1769968800@www.apeiouest44.fr
SUMMARY:Après-midi dansant
DESCRIPTION:Entrée gratuite\, sur inscription au 02 40 53 99 93 ou par mail auprès du secrétariat Vie associative
URL:https://www.apeiouest44.fr/agenda/apres-midi-dansant-2/
LOCATION:Asserac\, Salle de la Fontaine\, 14 Rue de la Fontaine\,\, Asserac\, 44410\, France
CATEGORIES:Fête
END:VEVENT
END:VCALENDAR