BEGIN:VCALENDAR
VERSION:2.0
PRODID:-//Apei Ouest 44 - ECPv6.15.10//NONSGML v1.0//EN
CALSCALE:GREGORIAN
METHOD:PUBLISH
X-WR-CALNAME:Apei Ouest 44
X-ORIGINAL-URL:https://www.apeiouest44.fr
X-WR-CALDESC:Évènements pour Apei Ouest 44
REFRESH-INTERVAL;VALUE=DURATION:PT1H
X-Robots-Tag:noindex
X-PUBLISHED-TTL:PT1H
BEGIN:VTIMEZONE
TZID:Europe/Paris
BEGIN:DAYLIGHT
TZOFFSETFROM:+0100
TZOFFSETTO:+0200
TZNAME:CEST
DTSTART:20200329T010000
END:DAYLIGHT
BEGIN:STANDARD
TZOFFSETFROM:+0200
TZOFFSETTO:+0100
TZNAME:CET
DTSTART:20201025T010000
END:STANDARD
BEGIN:DAYLIGHT
TZOFFSETFROM:+0100
TZOFFSETTO:+0200
TZNAME:CEST
DTSTART:20210328T010000
END:DAYLIGHT
BEGIN:STANDARD
TZOFFSETFROM:+0200
TZOFFSETTO:+0100
TZNAME:CET
DTSTART:20211031T010000
END:STANDARD
BEGIN:DAYLIGHT
TZOFFSETFROM:+0100
TZOFFSETTO:+0200
TZNAME:CEST
DTSTART:20220327T010000
END:DAYLIGHT
BEGIN:STANDARD
TZOFFSETFROM:+0200
TZOFFSETTO:+0100
TZNAME:CET
DTSTART:20221030T010000
END:STANDARD
END:VTIMEZONE
BEGIN:VEVENT
DTSTART;TZID=Europe/Paris:20210610T140000
DTEND;TZID=Europe/Paris:20210610T140000
DTSTAMP:20260422T172223
CREATED:20210511T100523Z
LAST-MODIFIED:20210527T075548Z
UID:18571-1623333600-1623333600@www.apeiouest44.fr
SUMMARY:Festival Zones Portuaires 2021 : séance adaptée
DESCRIPTION:En partenariat avec le Cinéma Atlantic de la Turballe\, le festival vous propose une séance adaptée\, ouverte à tous : les conditions d’accueil\, le niveau sonore\, l’éclairage de la salle sont adaptés pour permettre à des personnes avec ET sans handicap de partager le plaisir du cinéma. Une expérience de cinéma vivante et chaleureuse ! \nLe film de la séance : Le chant de la mer\, film d’animation de Tomm Moore (2014 – durée : 1h30). \nBen et Maïna vivent avec leur père tout en haut d’un phare sur une petite île. Pour les protéger des dangers de la mer\, leur grand-mère les emmène vivre à la ville. Ben découvre alors que sa petite soeur est une selkie\, une fée de la mer dont le chant peut délivrer les êtres magiques du sort que leur a jeté la Sorcière aux hiboux. Au cours d’un fantastique voyage\, Ben et Maïna vont devoir affronter peurs et dangers\,  et combattre la sorcière pour aider les êtres magiques à retrouver leur pouvoir.
URL:https://www.apeiouest44.fr/agenda/festival-zones-portuaires-2021-seance-adaptee/
LOCATION:Cinéma Atlantic\, Place des anciens combattants Trescalan\, La Turballe\, 44420\, France
CATEGORIES:Cinéma,Festival
ATTACH;FMTTYPE=image/jpeg:https://www.apeiouest44.fr/wp-content/uploads/2019/09/cinema.jpg
END:VEVENT
END:VCALENDAR