BEGIN:VCALENDAR
VERSION:2.0
PRODID:-//Apei Ouest 44 - ECPv6.15.10//NONSGML v1.0//EN
CALSCALE:GREGORIAN
METHOD:PUBLISH
X-WR-CALNAME:Apei Ouest 44
X-ORIGINAL-URL:https://www.apeiouest44.fr
X-WR-CALDESC:Évènements pour Apei Ouest 44
REFRESH-INTERVAL;VALUE=DURATION:PT1H
X-Robots-Tag:noindex
X-PUBLISHED-TTL:PT1H
BEGIN:VTIMEZONE
TZID:Europe/Paris
BEGIN:DAYLIGHT
TZOFFSETFROM:+0100
TZOFFSETTO:+0200
TZNAME:CEST
DTSTART:20230326T010000
END:DAYLIGHT
BEGIN:STANDARD
TZOFFSETFROM:+0200
TZOFFSETTO:+0100
TZNAME:CET
DTSTART:20231029T010000
END:STANDARD
BEGIN:DAYLIGHT
TZOFFSETFROM:+0100
TZOFFSETTO:+0200
TZNAME:CEST
DTSTART:20240331T010000
END:DAYLIGHT
BEGIN:STANDARD
TZOFFSETFROM:+0200
TZOFFSETTO:+0100
TZNAME:CET
DTSTART:20241027T010000
END:STANDARD
BEGIN:DAYLIGHT
TZOFFSETFROM:+0100
TZOFFSETTO:+0200
TZNAME:CEST
DTSTART:20250330T010000
END:DAYLIGHT
BEGIN:STANDARD
TZOFFSETFROM:+0200
TZOFFSETTO:+0100
TZNAME:CET
DTSTART:20251026T010000
END:STANDARD
END:VTIMEZONE
BEGIN:VEVENT
DTSTART;VALUE=DATE:20240322
DTEND;VALUE=DATE:20240325
DTSTAMP:20260422T075902
CREATED:20240313T150336Z
LAST-MODIFIED:20240313T152123Z
UID:21235-1711065600-1711324799@www.apeiouest44.fr
SUMMARY:Foire Exposition de Pontchâteau
DESCRIPTION:🎉 Rendez-vous vendredi 22 mars à la Foire Expo de Pontchâteau ! 🎉 \nesatco participera à la 18ème édition de la Foire Exposition de Pontchâteau\, placée sous le thème des métiers ! 🎪 🛠 \nRejoignez-nous sur le stand esatco et découvrez notamment nos créations et productions menuiserie esatco Pontchâteau. 👌 \n🗓 Rendez-vous les 22\, 23 et 24 mars 2024 au parc de Coët-Roz pour découvrir nos produits et services\, et surtout\, pour rencontrer chacun d’entre vous en personne ! 🤝 \nEntrée libre et gratuite. \nLe site est ouvert aux visiteurs : \n\n\n\nLe vendredi de 14h à 19h.\nLe samedi et le dimanche de 10h à 19h.\n\n\n\nL’accès des visiteurs est fermé 30 minutes avant la fin de la journée. \n 
URL:https://www.apeiouest44.fr/agenda/foire-exposition-de-pontchateau/
LOCATION:Pontchâteau
CATEGORIES:Exposition
END:VEVENT
END:VCALENDAR