BEGIN:VCALENDAR
VERSION:2.0
PRODID:-//Apei Ouest 44 - ECPv6.15.10//NONSGML v1.0//EN
CALSCALE:GREGORIAN
METHOD:PUBLISH
X-ORIGINAL-URL:https://www.apeiouest44.fr
X-WR-CALDESC:Évènements pour Apei Ouest 44
REFRESH-INTERVAL;VALUE=DURATION:PT1H
X-Robots-Tag:noindex
X-PUBLISHED-TTL:PT1H
BEGIN:VTIMEZONE
TZID:Europe/Paris
BEGIN:DAYLIGHT
TZOFFSETFROM:+0100
TZOFFSETTO:+0200
TZNAME:CEST
DTSTART:20210328T010000
END:DAYLIGHT
BEGIN:STANDARD
TZOFFSETFROM:+0200
TZOFFSETTO:+0100
TZNAME:CET
DTSTART:20211031T010000
END:STANDARD
BEGIN:DAYLIGHT
TZOFFSETFROM:+0100
TZOFFSETTO:+0200
TZNAME:CEST
DTSTART:20220327T010000
END:DAYLIGHT
BEGIN:STANDARD
TZOFFSETFROM:+0200
TZOFFSETTO:+0100
TZNAME:CET
DTSTART:20221030T010000
END:STANDARD
BEGIN:DAYLIGHT
TZOFFSETFROM:+0100
TZOFFSETTO:+0200
TZNAME:CEST
DTSTART:20230326T010000
END:DAYLIGHT
BEGIN:STANDARD
TZOFFSETFROM:+0200
TZOFFSETTO:+0100
TZNAME:CET
DTSTART:20231029T010000
END:STANDARD
END:VTIMEZONE
BEGIN:VEVENT
DTSTART;TZID=Europe/Paris:20220711T140000
DTEND;TZID=Europe/Paris:20220831T180000
DTSTAMP:20260423T142941
CREATED:20220704T150610Z
LAST-MODIFIED:20220711T065845Z
UID:19452-1657548000-1661968800@www.apeiouest44.fr
SUMMARY:Exposition Arts plastiques
DESCRIPTION:Les jeunes de l’IME Lucien Desmonts vous proposent de découvrir leurs travaux en Arts plastiques 2022. \nRendez-vous à la Maison de Quartier de l’Immaculée à St-Nazaire\, du 11 au 29 juillet et du 23 au 31 août. \nEntrée libre les lundis et jeudis de 14h à 18h\, les mardis\, mercredis et vendredis de 10h à 12h et de 14h à 18h. \n 
URL:https://www.apeiouest44.fr/agenda/exposition-arts-plastiques/
LOCATION:Maison de quartier Immaculée\, Le Point du Jour\, Saint-Nazaire\, 44600
CATEGORIES:Exposition
ATTACH;FMTTYPE=image/jpeg:https://www.apeiouest44.fr/wp-content/uploads/2019/10/exposition.jpg
END:VEVENT
END:VCALENDAR