BEGIN:VCALENDAR
VERSION:2.0
PRODID:-//Apei Ouest 44 - ECPv6.15.10//NONSGML v1.0//EN
CALSCALE:GREGORIAN
METHOD:PUBLISH
X-WR-CALNAME:Apei Ouest 44
X-ORIGINAL-URL:https://www.apeiouest44.fr
X-WR-CALDESC:Évènements pour Apei Ouest 44
REFRESH-INTERVAL;VALUE=DURATION:PT1H
X-Robots-Tag:noindex
X-PUBLISHED-TTL:PT1H
BEGIN:VTIMEZONE
TZID:Europe/Paris
BEGIN:DAYLIGHT
TZOFFSETFROM:+0100
TZOFFSETTO:+0200
TZNAME:CEST
DTSTART:20180325T010000
END:DAYLIGHT
BEGIN:STANDARD
TZOFFSETFROM:+0200
TZOFFSETTO:+0100
TZNAME:CET
DTSTART:20181028T010000
END:STANDARD
BEGIN:DAYLIGHT
TZOFFSETFROM:+0100
TZOFFSETTO:+0200
TZNAME:CEST
DTSTART:20190331T010000
END:DAYLIGHT
BEGIN:STANDARD
TZOFFSETFROM:+0200
TZOFFSETTO:+0100
TZNAME:CET
DTSTART:20191027T010000
END:STANDARD
BEGIN:DAYLIGHT
TZOFFSETFROM:+0100
TZOFFSETTO:+0200
TZNAME:CEST
DTSTART:20200329T010000
END:DAYLIGHT
BEGIN:STANDARD
TZOFFSETFROM:+0200
TZOFFSETTO:+0100
TZNAME:CET
DTSTART:20201025T010000
END:STANDARD
END:VTIMEZONE
BEGIN:VEVENT
DTSTART;TZID=Europe/Paris:20191010T100000
DTEND;TZID=Europe/Paris:20191020T183000
DTSTAMP:20260426T020745
CREATED:20191011T125120Z
LAST-MODIFIED:20191014T071339Z
UID:16812-1570701600-1571596200@www.apeiouest44.fr
SUMMARY:Salon d'Automne à Donges
DESCRIPTION:Dans le cadre du Salon d’Automne ‘Peinture et Sculpture’ de la ville de Donges\, des créations sur toiles et sculptures de travailleurs de la SA-ESAT ont été sélectionnées pour être exposées parmi les œuvres d’artistes professionnels et amateurs. \nVenez découvrir la créativité et la sensibilité artistique des personnes accompagnées\, à l’Hôtel de ville de Donges. \nDu 10 au 20 octobre\, entrée libre. \n  \n  \n 
URL:https://www.apeiouest44.fr/agenda/19eme-salon-dautomne/
LOCATION:Hôtel de Ville\, Place Armand-Morvan\, Donges\, 44480\, France
CATEGORIES:Exposition
ATTACH;FMTTYPE=image/jpeg:https://www.apeiouest44.fr/wp-content/uploads/2019/10/exposition.jpg
END:VEVENT
BEGIN:VEVENT
DTSTART;VALUE=DATE:20191019
DTEND;VALUE=DATE:20191020
DTSTAMP:20260426T020745
CREATED:20190307T151921Z
LAST-MODIFIED:20190709T140731Z
UID:16199-1571443200-1571529599@www.apeiouest44.fr
SUMMARY:60 Ans !
DESCRIPTION:
URL:https://www.apeiouest44.fr/agenda/60-ans-apei-ouest44/
CATEGORIES:Exposition,Fête,spectacle
END:VEVENT
END:VCALENDAR